BEGIN:VCALENDAR
VERSION:2.0
PRODID:-//fashion-square - ECPv6.15.20//NONSGML v1.0//EN
CALSCALE:GREGORIAN
METHOD:PUBLISH
X-WR-CALNAME:fashion-square
X-ORIGINAL-URL:https://fashion-square.net
X-WR-CALDESC:Veranstaltungen für fashion-square
REFRESH-INTERVAL;VALUE=DURATION:PT1H
X-Robots-Tag:noindex
X-PUBLISHED-TTL:PT1H
BEGIN:VTIMEZONE
TZID:UTC
BEGIN:STANDARD
TZOFFSETFROM:+0000
TZOFFSETTO:+0000
TZNAME:UTC
DTSTART:20210101T000000
END:STANDARD
END:VTIMEZONE
BEGIN:VEVENT
DTSTART;TZID=UTC:20260306T100000
DTEND;TZID=UTC:20260309T190000
DTSTAMP:20260420T181125
CREATED:20260219T144005Z
LAST-MODIFIED:20260219T150035Z
UID:36225-1772791200-1773082800@fashion-square.net
SUMMARY:CURATE PARIS
DESCRIPTION:Internationale Kollektion: Exklusive Modemesse. \nEntdecken Sie CURATE PARIS\, exklusivste Modemesse mit sorgfältig zusammengestellten Kollektionen in einem eleganten Ambiente.Entstanden aus dem Bedürfnis nach einer Modemesse\, die Qualität mit außergewöhnlichem Design verbindet\, tut Curate genau das bei jeder Messe. Jede Saison werden Designer sorgfältig ausgewählt\, um ihre Kollektionen bei Curate zu präsentieren und den Einkäufern ein exklusives Erlebnis zu bieten.\nUnsere Vision für Marken ist es\, Designer in einer unterstützenden und gemeinschaftsorientierten Atmosphäre zusammenzubringen. Die Stärke dieses Ansatzes zeigt sich im Erfolg unserer Designer und Einkäufer in jeder Saison. \nInternational collection: Exclusive fashion fair. \nDiscover CURATE PARIS\, the most exclusive fashion fair with carefully curated collections in an elegant setting. Born out of the need for a fashion fair that combines quality with exceptional design\, Curate does just that at every fair. Each season\, designers are carefully selected to present their collections at Curate\, offering buyers an exclusive experience.\nOur vision for brands is to bring designers together in a supportive and community-oriented atmosphere. The strength of this approach is evident in the success of our designers and buyers each season. \n  \ntwittern teilen teilen 
URL:https://fashion-square.net/event/curate-paris/
LOCATION:7 rue Froissart\, 75003 Paris\, rue Froissant\, Paris\, France
ATTACH;FMTTYPE=image/jpeg:https://fashion-square.net/wp-content/uploads/2026/02/kroeger_paris99.jpg
END:VEVENT
BEGIN:VEVENT
DTSTART;TZID=UTC:20260228T090000
DTEND;TZID=UTC:20260302T190000
DTSTAMP:20260420T181125
CREATED:20250930T180128Z
LAST-MODIFIED:20260219T145519Z
UID:8434-1772269200-1772478000@fashion-square.net
SUMMARY:TWODAYS\, Ed. 4\, by Igedo Exibitions\, Germany
DESCRIPTION:TWODAYS\, powered by Igedo Exhibitions! Fashion\, Shows\, Accessoires\, Bags. \n\n\nTWODAYS Edition #4\n‚Follow Up Period Düsseldorf‘ – Fashion Re:Order & Shoe Business – 28.02. – 02.03.2026! \nDieser Zeitraum ist geprägt von der ‚Follow Up Period‘ der Fashion-Showrooms\, in der Modeagenturen erneut ihre Türen öffnen. Parallel dazu finden die Schuh-Businesstage statt\, so dass sich Düsseldorf in dieser Woche erneut als Treffpunkt für Einkäufer*innen aus Fashion und Footwear positionieren kann. \nDieser Zeitraum bietet den Händler*innen die Möglichkeit\, ihre letzten Orders der Saison oder aber neue Orders aus angrenzenden Segmenten einzuholen\, mit einem kurativen Auszug oder der gesamten Bandbreite der Kollektionen je nach Branche. \nZiel sollte es sein\, bestehende Strukturen intelligent zu ergänzen und Synergien zwischen Fashion-Follow-Ups & Shoe-Business zu schaffen. „Genau in dieser Schnittmenge sehen wir großes Potenzial\, gemeinsam ein starkes Signal an den Markt zu senden und den Standort Düsseldorf auch nach der Hauptorder nachhaltig zu stärken“\, Ulrike Kähler\, Managing Director Igedo Exhibitions.\n\ntwittern teilen teilen 
URL:https://fashion-square.net/event/twodays/
LOCATION:KAP.ONE\, Karl-Arnold-Platz 1\, Düsseldorf\, 40474\, Germany
END:VEVENT
BEGIN:VEVENT
DTSTART;TZID=UTC:20260226T080000
DTEND;TZID=UTC:20260228T170000
DTSTAMP:20260420T181125
CREATED:20191125T070516Z
LAST-MODIFIED:20251027T173255Z
UID:9170-1772092800-1772298000@fashion-square.net
SUMMARY:WHITE MILANO
DESCRIPTION:Fashion Trade Show \ntwittern teilen teilen 
URL:https://fashion-square.net/event/white-milano/
END:VEVENT
BEGIN:VEVENT
DTSTART;TZID=UTC:20260224T090000
DTEND;TZID=UTC:20260301T180000
DTSTAMP:20260420T181125
CREATED:20230404T164018Z
LAST-MODIFIED:20260112T151429Z
UID:6454-1771923600-1772388000@fashion-square.net
SUMMARY:Düsseldorf FOLLOW UP
DESCRIPTION:Mit der „Düsseldorfer FOLLOW UP“  bieten viele Hersteller und Agenturen den Einkäufern die Möglichkeit auch noch vier Wochen nach den Düsseldorfer Fashion Days sich über die Kollektionen des kommenden Jahres zu informieren und ihre Order für den kommenden Sommer zu ergänzen\, oder zu platzieren. Auch die TWODAYS #4\, powered by Igedo Exhibition findet zeitgleich statt. \nFashion Square unterstützt Hersteller und Agenturen bei der Suche nach geeigneten Ausstellungsflächen. Ferner werden die Premium Labels von Fashion Square im International Fashion Guide\, sowie noch ausführlicher auf dieser Plattform präsentiert. Fashion Square informiert den Handel über Neuigkeiten aus der Modewelt. News aus der Fashion Szene werden sowohl im Blog auf der Fashion Square Seite\, als auch in sozialen Netzwerken\, wie facebook und instagram gepostet. Ferner besteht die Möglichkeit einen kostenfreien Newsletter bei Fashion Square zu abonieren. \nBesonderer kostenfreier Service für den Handel: Fashion Square organisiert auf Anfrage für Einkäufer den Besuch auf der Düsseldorfer Fashion Days (Terminvereinbarungen\, Shuttle Service\, Hotelreservierungen). \nOnline ist sowohl der International Fashion Guide\, wie auch ein großes Verzeichnis von Herstellern und Agenturen\, unter www.fashion-square.net einsehbar. \nMit der „Düsseldorfer FOLLOW UP“  bieten viele Hersteller und Agenturen den Einkäufern die Möglichkeit auch noch vier Wochen nach den Düsseldorfer Fashion Days sich über die Kollektionen des kommenden Jahres zu informieren und ihre Order für den kommenden Sommer zu ergänzen\, oder zu platzieren. Auch die TWODAYS #4\, powered by Igedo Exhibition findet zeitgleich statt. \nFashion Square unterstützt Hersteller und Agenturen bei der Suche nach geeigneten Ausstellungsflächen. Ferner werden die Premium Labels von Fashion Square im International Fashion Guide\, sowie noch ausführlicher auf dieser Plattform präsentiert. Fashion Square informiert den Handel über Neuigkeiten aus der Modewelt. News aus der Fashion Szene werden sowohl im Blog auf der Fashion Square Seite\, als auch in sozialen Netzwerken\, wie facebook und instagram gepostet. Ferner besteht die Möglichkeit einen kostenfreien Newsletter bei Fashion Square zu abonieren. \nBesonderer kostenfreier Service für den Handel: Fashion Square organisiert auf Anfrage für Einkäufer den Besuch auf der Düsseldorfer Fashion Days (Terminvereinbarungen\, Shuttle Service\, Hotelreservierungen). \nOnline ist sowohl der International Fashion Guide\, wie auch ein großes Verzeichnis von Herstellern und Agenturen\, unter www.fashion-square.net einsehbar. \nMit der „Düsseldorfer FOLLOW UP“  bieten viele Hersteller und Agenturen den Einkäufern die Möglichkeit auch noch vier Wochen nach den Düsseldorfer Fashion Days sich über die Kollektionen des kommenden Jahres zu informieren und ihre Order für den kommenden Sommer zu ergänzen\, oder zu platzieren. Auch die TWODAYS #4\, powered by Igedo Exhibition findet zeitgleich statt. \nFashion Square unterstützt Hersteller und Agenturen bei der Suche nach geeigneten Ausstellungsflächen. Ferner werden die Premium Labels von Fashion Square im International Fashion Guide\, sowie noch ausführlicher auf dieser Plattform präsentiert. Fashion Square informiert den Handel über Neuigkeiten aus der Modewelt. News aus der Fashion Szene werden sowohl im Blog auf der Fashion Square Seite\, als auch in sozialen Netzwerken\, wie facebook und instagram gepostet. Ferner besteht die Möglichkeit einen kostenfreien Newsletter bei Fashion Square zu abonieren. \nBesonderer kostenfreier Service für den Handel: Fashion Square organisiert auf Anfrage für Einkäufer den Besuch auf der Düsseldorfer Fashion Days (Terminvereinbarungen\, Shuttle Service\, Hotelreservierungen). \nOnline ist sowohl der International Fashion Guide\, wie auch ein großes Verzeichnis von Herstellern und Agenturen\, unter www.fashion-square.net einsehbar. \nMit der „Düsseldorfer FOLLOW UP“  bieten viele Hersteller und Agenturen den Einkäufern die Möglichkeit auch noch vier Wochen nach den Düsseldorfer Fashion Days sich über die Kollektionen des kommenden Jahres zu informieren und ihre Order für den kommenden Sommer zu ergänzen\, oder zu platzieren. Auch die TWODAYS #4\, powered by Igedo Exhibition findet zeitgleich statt. \nFashion Square unterstützt Hersteller und Agenturen bei der Suche nach geeigneten Ausstellungsflächen. Ferner werden die Premium Labels von Fashion Square im International Fashion Guide\, sowie noch ausführlicher auf dieser Plattform präsentiert. Fashion Square informiert den Handel über Neuigkeiten aus der Modewelt. News aus der Fashion Szene werden sowohl im Blog auf der Fashion Square Seite\, als auch in sozialen Netzwerken\, wie facebook und instagram gepostet. Ferner besteht die Möglichkeit einen kostenfreien Newsletter bei Fashion Square zu abonieren. \ntwittern teilen teilen 
URL:https://fashion-square.net/event/follow-up/
LOCATION:Fashion Square Düsseldorf\, Kaiserswerther Strasse\, Düsseldorf\, 40474\, Deutschland
END:VEVENT
BEGIN:VEVENT
DTSTART;TZID=UTC:20260222T093000
DTEND;TZID=UTC:20260224T180000
DTSTAMP:20260420T181125
CREATED:20260205T141810Z
LAST-MODIFIED:20260219T141952Z
UID:35377-1771752600-1771956000@fashion-square.net
SUMMARY:CURATE NEW YORK
DESCRIPTION:CURATE NEW YORK\nInternationale Kollektion: Exklusive Modemesse. \nEntdecken Sie CURATE\, New Yorks exklusivste Modemesse mit sorgfältig zusammengestellten Kollektionen in einem eleganten Ambiente.Entstanden aus dem Bedürfnis nach einer Modemesse\, die Qualität mit außergewöhnlichem Design verbindet\, tut Curate genau das bei jeder Messe. Jede Saison werden Designer sorgfältig ausgewählt\, um ihre Kollektionen bei Curate zu präsentieren und den Einkäufern ein exklusives Erlebnis zu bieten.\nUnsere Vision für Marken ist es\, Designer in einer unterstützenden und gemeinschaftsorientierten Atmosphäre zusammenzubringen. Die Stärke dieses Ansatzes zeigt sich im Erfolg unserer Designer und Einkäufer in jeder Saison. \ntwittern teilen teilen 
URL:https://fashion-square.net/event/curate-new-york/
LOCATION:555 W 25th st. New York\, NY 10001 Ground Level
END:VEVENT
BEGIN:VEVENT
DTSTART;TZID=UTC:20260222T080000
DTEND;TZID=UTC:20260224T170000
DTSTAMP:20260420T181125
CREATED:20191125T070220Z
LAST-MODIFIED:20251027T173125Z
UID:9168-1771747200-1771952400@fashion-square.net
SUMMARY:Micam Milano
DESCRIPTION:Schuhmesse \ntwittern teilen teilen 
URL:https://fashion-square.net/event/micam-milano/
END:VEVENT
BEGIN:VEVENT
DTSTART;VALUE=DATE:20260207
DTEND;VALUE=DATE:20260211
DTSTAMP:20260420T181125
CREATED:20230404T132413Z
LAST-MODIFIED:20251027T163353Z
UID:4237-1770422400-1770767999@fashion-square.net
SUMMARY:Supreme Women&Men Munich\, 2026
DESCRIPTION:twittern teilen teilen 
URL:https://fashion-square.net/event/supreme-womenmen-munich-2024/
LOCATION:MTC world of fashion / Haus 1\, Germany\, Ingolstädter Str. 45\, München\, Deutschland\, 80807\, Deutschland
END:VEVENT
BEGIN:VEVENT
DTSTART;TZID=UTC:20260204T080000
DTEND;TZID=UTC:20260209T170000
DTSTAMP:20260420T181125
CREATED:20200506T174015Z
LAST-MODIFIED:20251027T164511Z
UID:10498-1770192000-1770656400@fashion-square.net
SUMMARY:Munich Fashion
DESCRIPTION:In München finden die Ordertage für den süddeutschen Raum\, Österreich und der Schweiz statt. Viele namhafte Modehersteller und Agenturen sind mit Showrooms hier ganzjährig vertreten. Im Lodenfrey Park\, dem MTC München\, dem Prisco Haus\, einigen Hotels\, sowie auf der Modemesse „Supreme women & men“ können Einkäufer die neuesten Kollektionen besichtigen und Orderaufträge platzieren. \ntwittern teilen teilen 
URL:https://fashion-square.net/event/munich-fashion/
LOCATION:MTC  world of fashion\, Ingolstädter Straße/Taunusstraße 45 Haus 1\, München\, 80807\, Deutschland
END:VEVENT
BEGIN:VEVENT
DTSTART;TZID=UTC:20260201T080000
DTEND;TZID=UTC:20260204T170000
DTSTAMP:20260420T181125
CREATED:20240611T134202Z
LAST-MODIFIED:20251027T173817Z
UID:11097-1769932800-1770224400@fashion-square.net
SUMMARY:Pure Birmingham
DESCRIPTION:twittern teilen teilen 
URL:https://fashion-square.net/event/pure-birmingham/
END:VEVENT
BEGIN:VEVENT
DTSTART;TZID=UTC:20260201T080000
DTEND;TZID=UTC:20260203T170000
DTSTAMP:20260420T181125
CREATED:20200103T093831Z
LAST-MODIFIED:20251027T172655Z
UID:9710-1769932800-1770138000@fashion-square.net
SUMMARY:Schick - Messe für Mode\, Schuhe und Acessoires\, Brandbox\, Salzburg
DESCRIPTION:Österreichs grösste Modefachmesse. Die Fashion Premiere untermauert die Bedeutung der Brandboxx Salzburg als wichtigstes Modezentrum des Landes. \ntwittern teilen teilen 
URL:https://fashion-square.net/event/schick-modemesse-fuer-fashion-and-shoes-in-salzburg/
END:VEVENT
BEGIN:VEVENT
DTSTART;TZID=UTC:20260123T093000
DTEND;TZID=UTC:20260126T180000
DTSTAMP:20260420T181125
CREATED:20240125T065800Z
LAST-MODIFIED:20251027T162342Z
UID:9164-1769160600-1769450400@fashion-square.net
SUMMARY:TWODAYS\, Ed. 3\, Showroom Concept by Igedo Exhibitions
DESCRIPTION:TWODAYS DUESSELDORF\nTWODAYS\, Ed. 3\, powered by Igedo Exhibitions! Fashion\, Shows\, Accessoires\, Bags. \nMit dem neuen Messeformat an zwei hervorragenden Standorten mitten im Herzen der Modeszene in Düsseldorf präsentieren Hersteller aus der ganzen Welt ihre Kollektionen in wunderschönen hohen Räumen. Zudem bietet die TWODAYS\, #3 neben einem interessanten Rahmenprogramm im Januar dem Handel die Möglichkeit ihre Order auch etwas später im Rahmen der FOLLOW UP für den kommenden Herbst/Winter zu plazieren.. \ntwittern teilen teilen 
URL:https://fashion-square.net/event/dfd-2/
LOCATION:KAP.ONE\, Karl-Arnold-Platz 1\, Düsseldorf\, 40474\, Germany
END:VEVENT
BEGIN:VEVENT
DTSTART;TZID=UTC:20260121T093000
DTEND;TZID=UTC:20260128T180000
DTSTAMP:20260420T181125
CREATED:20190911T115642Z
LAST-MODIFIED:20260104T201357Z
UID:8433-1768987800-1769623200@fashion-square.net
SUMMARY:Düsseldorfer Fashion Days
DESCRIPTION:Düsseldorfer Fashion Days\, Internationale Ordertage für Europa\nDie Düsseldorfer Fashion Days werden u.a. unterstützt von der Wirtschaftsförderung der Stadt Düsseldorf\, der Igedo Exhibition und Fashion Square. Während der Modewoche bietet Düsseldorf einen spannenden Mix von Veranstaltungen. Premiumbrands und Agenturen\, Avantgardisten und Designer zeigen in mehr als 600 Showrooms ihre Kollektionen. Hotspots sind dabei die Kaiserswerther Straße (Fashion Square genannt)\, dem Karl-Arnold-Platz\, sowie dem Hotspot Derendorf mit der Halle 29. Zudem finden während dieser Zeit auch mehrere Messen\, wie z.B. die Two Days\, präsentiert von der Igedo Exhibition und die aus den USA kommende Messe Curateic in Düsseldorf statt. \ntwittern teilen teilen 
URL:https://fashion-square.net/event/gallery-shoes-duesseldorf-germany/
LOCATION:Areal Böhler\, Hansaallee 321\, Düsseldorf\, Hansaallee 321\, Düsseldorf\, 40549\, Deutschland
END:VEVENT
BEGIN:VEVENT
DTSTART;VALUE=DATE:20260113
DTEND;VALUE=DATE:20260117
DTSTAMP:20260420T181125
CREATED:20181004T133218Z
LAST-MODIFIED:20251027T172941Z
UID:4244-1768262400-1768607999@fashion-square.net
SUMMARY:Pitti Immagine Uomo\, Men´s Fashion Fair\, Florence\, Italy
DESCRIPTION:twittern teilen teilen 
URL:https://fashion-square.net/event/pitti-immagine-uomo-mens-fashion-fair-florence-italy/
END:VEVENT
BEGIN:VEVENT
DTSTART;TZID=UTC:20250718T080000
DTEND;TZID=UTC:20250721T170000
DTSTAMP:20260420T181125
CREATED:20191125T064556Z
LAST-MODIFIED:20250701T181403Z
UID:9158-1752825600-1753117200@fashion-square.net
SUMMARY:Supreme Women & Men
DESCRIPTION:Supreme Women & Men ist die Fashionplattform in München\, wenn es um die richtungsweisenden Trends geht\, und dies traditionell ca. zwei Wochen nach den Düsseldorfer Fashion Days. Die Messe findet auf dem Gelände des MTC wold of fashion\, Ingolstädter Strasse / Taunusstraße im Haus 1 statt. \ntwittern teilen teilen 
URL:https://fashion-square.net/event/supreme/
LOCATION:MTC world of fashion / Haus 1\, Germany\, Ingolstädter Str. 45\, München\, Deutschland\, 80807\, Deutschland
END:VEVENT
BEGIN:VEVENT
DTSTART;TZID=UTC:20240906T080000
DTEND;TZID=UTC:20240911T170000
DTSTAMP:20260420T181125
CREATED:20191229T105539Z
LAST-MODIFIED:20240619T200817Z
UID:9620-1725609600-1726074000@fashion-square.net
SUMMARY:NEW YORK FASHION WEEK by Runway
DESCRIPTION:twittern teilen teilen 
URL:https://fashion-square.net/event/new-york-fashion-week/
END:VEVENT
BEGIN:VEVENT
DTSTART;TZID=UTC:20240204T080000
DTEND;TZID=UTC:20240206T170000
DTSTAMP:20260420T181125
CREATED:20201113T093545Z
LAST-MODIFIED:20231102T211254Z
UID:11868-1707033600-1707238800@fashion-square.net
SUMMARY:Supreme Body&Beach
DESCRIPTION:twittern teilen teilen 
URL:https://fashion-square.net/event/supreme-bodybeach/
END:VEVENT
BEGIN:VEVENT
DTSTART;VALUE=DATE:20240126
DTEND;VALUE=DATE:20240129
DTSTAMP:20260420T181125
CREATED:20190318T171127Z
LAST-MODIFIED:20231102T210235Z
UID:6319-1706227200-1706486399@fashion-square.net
SUMMARY:SUPREME KIDS
DESCRIPTION:MTC World of Fashion \ntwittern teilen teilen 
URL:https://fashion-square.net/event/supreme-kids/
LOCATION:MTC  world of fashion\, Ingolstädter Straße/Taunusstraße 45 Haus 1\, München\, 80807\, Deutschland
END:VEVENT
BEGIN:VEVENT
DTSTART;TZID=UTC:20240122T080000
DTEND;TZID=UTC:20240125T170000
DTSTAMP:20260420T181125
CREATED:20200421T093307Z
LAST-MODIFIED:20231102T211905Z
UID:10432-1705910400-1706202000@fashion-square.net
SUMMARY:Paris Fashion Week (Haute Couture)
DESCRIPTION:twittern teilen teilen 
URL:https://fashion-square.net/event/paris-fashion-week-haute-couture/
END:VEVENT
BEGIN:VEVENT
DTSTART;VALUE=DATE:20240116
DTEND;VALUE=DATE:20240118
DTSTAMP:20260420T181125
CREATED:20231116T202125Z
LAST-MODIFIED:20231116T202154Z
UID:27080-1705363200-1705535999@fashion-square.net
SUMMARY:SEEK in Berlin
DESCRIPTION:twittern teilen teilen 
URL:https://fashion-square.net/event/seek/
END:VEVENT
BEGIN:VEVENT
DTSTART;TZID=UTC:20230405T080000
DTEND;TZID=UTC:20230407T170000
DTSTAMP:20260420T181125
CREATED:20191229T111850Z
LAST-MODIFIED:20220701T211240Z
UID:9636-1680681600-1680886800@fashion-square.net
SUMMARY:FASHION WORLD TOKYO
DESCRIPTION:Japan`s largest Fashion Trade Show \ntwittern teilen teilen 
URL:https://fashion-square.net/event/fashion-world-tokyo/
END:VEVENT
BEGIN:VEVENT
DTSTART;VALUE=DATE:20230204
DTEND;VALUE=DATE:20230207
DTSTAMP:20260420T181125
CREATED:20181004T135955Z
LAST-MODIFIED:20221229T121720Z
UID:4258-1675468800-1675727999@fashion-square.net
SUMMARY:ILM Summer Styles\, Internationale Lederwaren\, Messe Offenbach
DESCRIPTION:twittern teilen teilen 
URL:https://fashion-square.net/event/ilm-summer-styles-internationale-lederwaren-messe-offenbach/
LOCATION:Station Berlin\, Luckenwalder Strasse 4-6\, Berlin\, 10963\, Deutschland
END:VEVENT
BEGIN:VEVENT
DTSTART;TZID=UTC:20230201T080000
DTEND;TZID=UTC:20230203T170000
DTSTAMP:20260420T181125
CREATED:20191229T110238Z
LAST-MODIFIED:20221229T121802Z
UID:9630-1675238400-1675443600@fashion-square.net
SUMMARY:CIFF Copenhagen International Fashion Fair
DESCRIPTION:twittern teilen teilen 
URL:https://fashion-square.net/event/ciff-copenhagen-international-fashion-fair/
END:VEVENT
BEGIN:VEVENT
DTSTART;VALUE=DATE:20230129
DTEND;VALUE=DATE:20230201
DTSTAMP:20260420T181125
CREATED:20181004T134602Z
LAST-MODIFIED:20221229T122400Z
UID:4252-1674950400-1675209599@fashion-square.net
SUMMARY:Scoop London\, UK
DESCRIPTION:twittern teilen teilen 
URL:https://fashion-square.net/event/scoop-london-uk/
LOCATION:Saatchi Gallery\, King's Road\, London\, SW3 4RY\, Großbritannien (Vereinigtes Königreich)
END:VEVENT
BEGIN:VEVENT
DTSTART;VALUE=DATE:20230122
DTEND;VALUE=DATE:20230124
DTSTAMP:20260420T181125
CREATED:20181004T140344Z
LAST-MODIFIED:20221229T115416Z
UID:4262-1674345600-1674518399@fashion-square.net
SUMMARY:Modefabriek BV\, Amsterdam Fashion Trade Fair
DESCRIPTION:twittern teilen teilen 
URL:https://fashion-square.net/event/modefabriek-bv-amsterdam-fashion-trade-fair/
LOCATION:Modefabriek BV\, Gedempt Hamerkanaal 29\, Amsterdam\, 1021\, Niederlande
END:VEVENT
BEGIN:VEVENT
DTSTART;VALUE=DATE:20230121
DTEND;VALUE=DATE:20230124
DTSTAMP:20260420T181125
CREATED:20181004T132735Z
LAST-MODIFIED:20221229T115258Z
UID:4231-1674259200-1674518399@fashion-square.net
SUMMARY:Who's next\, Premiere Classe\, Paris\, France
DESCRIPTION:twittern teilen teilen 
URL:https://fashion-square.net/event/premiere-classe-paris-france/
LOCATION:Porte de Versailles\, 1 place de la Porte de Versailles\, Paris\, 75015\, Frankreich
END:VEVENT
BEGIN:VEVENT
DTSTART;TZID=UTC:20230119T080000
DTEND;TZID=UTC:20230122T170000
DTSTAMP:20260420T181125
CREATED:20221229T115208Z
LAST-MODIFIED:20221229T115208Z
UID:23166-1674115200-1674406800@fashion-square.net
SUMMARY:TRANOÎ MEN PARIS
DESCRIPTION:men’s fashion \ntwittern teilen teilen 
URL:https://fashion-square.net/event/tranoi-men-paris/
END:VEVENT
BEGIN:VEVENT
DTSTART;TZID=UTC:20230117T080000
DTEND;TZID=UTC:20230122T170000
DTSTAMP:20260420T181125
CREATED:20201228T144116Z
LAST-MODIFIED:20221229T114843Z
UID:13277-1673942400-1674406800@fashion-square.net
SUMMARY:PARIS FASHION WEEK MEN
DESCRIPTION:twittern teilen teilen 
URL:https://fashion-square.net/event/fashion-week-paris-haute-couture/
END:VEVENT
BEGIN:VEVENT
DTSTART;TZID=UTC:20230113T080000
DTEND;TZID=UTC:20230117T170000
DTSTAMP:20260420T181125
CREATED:20191229T105801Z
LAST-MODIFIED:20221229T114403Z
UID:9624-1673596800-1673974800@fashion-square.net
SUMMARY:MILAN FASHION WEEK Men's
DESCRIPTION:twittern teilen teilen 
URL:https://fashion-square.net/event/milan-fashion-week/
END:VEVENT
BEGIN:VEVENT
DTSTART;VALUE=DATE:20220904
DTEND;VALUE=DATE:20220908
DTSTAMP:20260420T181125
CREATED:20200711T134619Z
LAST-MODIFIED:20220701T203408Z
UID:11099-1662249600-1662595199@fashion-square.net
SUMMARY:JWF\, Jewelllery&Watch and Fashion
DESCRIPTION:Hyve Group announce changes to their 2020 show calendar \nAutumn Fair 2020 will offer a virtual forum this September \nAutumn Fair will return 5th-8th September 2021 \n  \n \nLondon\, UK\, 2nd July 2020 – Hyve\, the organiser of Autumn Fair\, the season’s most important marketplace for the home and gift retail industry\, and the co-located Jewellery & Watch and Fashion (JWF) announce today changes to the scheduled event in 2020. \nAs a reflection on conversations between the organisers and exhibitors and visitors\, Hyve have made the decision that Autumn Fair and JWF 2020 will not take place this year. Spring Fair will continue to take place on the 7th-11th February 2021 and Autumn Fair will return to the NEC on the 5th-8th September 2021.  \nHyve and the team behind Autumn Fair and JWF are now working closely with their partners and clients to deliver a virtual forum this September with exclusive seminar content and practical advice designed to educate and inform participants. More information on the virtual forum will be available on the website in due course. \n“We have been listening to both our exhibitors and visitors\, and the feedback from the market has been incredibly supportive of Autumn Fair. We’re excited to have the opportunity to take a fresh approach and launch a virtual forum this September.” says Jessica Dawnay\, Event Director – Spring & Autumn Fair. “We are also looking forward to when the industry can meet again in person and will focus all efforts and resources on helping the industry bounce back in 2021\, both at Spring Fair in February 2021\, and Autumn Fair taking place 5th-8th September 2021.” \n„Autumn Fair is consistently one of our favourite and important exhibitions of the year. That said\, the idea of a virtual show is inspired\, and I look forward to getting fully involved in showcasing our latest puppet and soft toy collections online.” says Peter Lockey\, The Puppet Company Ltd \nAutumn Fair and JWF continue to provide exclusive webinars\, industry news and product updates that keeps the home and gift retail community informed\, connected and inspired on The Community hub. \n About Autumn Fair \nDiverse\, relevant and exciting\, Autumn Fair is the marketplace of the season for the home and gift retail industry. Perfectly timed at the beginning of September\, the event is a crucial shopping destination for buyers to prepare for the Golden Quarter\, retail’s busiest and most profitable time of year in the lead up to Christmas and New Year. Co-located with Design & Source and Jewellery & Watch and Fashion (JWF)\, Autumn Fair is an all-encompassing show for retailers\, designers\, contractors\, architects and interior decorators to come and find their next best-seller and insights into the newest product trends. Autumn Fair is a brand of Hyve Group plc. http://www.autumnfair.com \n About Jewellery & Watch and Fashion (JWF) \nRunning twice a year alongside Spring Fair in February and Autumn Fair in September\, this brand-new offering is where the most coveted contemporary jewellery and watches meet the newest\, must-have fashion pieces including footwear\, handbags\, wallets\, scarves and luggage. As a response to growing retail demands and consumer trends\, JWF offers buyers a chance to diversify their offering and grow their business across two editions. JWF is a brand of Hyve Group plc. http://www.jewelleryandwatchbirmingham.com \nAbout Hyve Group plc \nHyve Group plc is a next generation global events business whose purpose is to create unmissable events\, where customers from all corners of the globe share extraordinary moments and shape industry innovation. Hyve Group plc was announced as the new brand name of ITE Group plc in September 2019\, following its significant transformation under the Transformation and Growth (TAG) programme. Our vision is to create the world’s leading portfolio of content-driven\, must-attend events delivering an outstanding experience and ROI for our customers. Where business is personal\, where meetings move markets and where today’s leaders inspire tomorrow’s. http://hyve.group/Home \n  \nPicture-and Textcredit: Hyve Group \ntwittern teilen teilen 
URL:https://fashion-square.net/event/jwf-jewelllerywatch-and-fashion/
END:VEVENT
BEGIN:VEVENT
DTSTART;VALUE=DATE:20220830
DTEND;VALUE=DATE:20220903
DTSTAMP:20260420T181125
CREATED:20181004T133507Z
LAST-MODIFIED:20220701T205023Z
UID:4246-1661817600-1662163199@fashion-square.net
SUMMARY:CPM Collection Premiêre Moscow\, Russia
DESCRIPTION:twittern teilen teilen 
URL:https://fashion-square.net/event/cpm-moscow-russia/
LOCATION:ExpoCenter City\, Eingang Süd/Jafféstraße\, Berlin\, 14055\, Deutschland
END:VEVENT
END:VCALENDAR